BEGIN:VCALENDAR
VERSION:2.0
PRODID:-//Plone.org//NONSGML plone.app.event//EN
X-WR-TIMEZONE:US/Central
BEGIN:VEVENT
SUMMARY:Summer Reading Celebration Party in Malden
DTSTART;TZID=US/Central:20250723T130000
DTEND;TZID=US/Central:20250723T140000
DTSTAMP:20260424T183814Z
UID:9220247bbe80488da67def6b4c1eb6a2@saas_stack_varnish:6080
CONTACT:Julie Orf
CREATED:20250624T151027Z
DESCRIPTION:July 23: Summer Reading Celebration Party--1 pm in Malden
LAST-MODIFIED:20250624T151036Z
LOCATION:Dunklin County Library Malden Branch
URL:https://www.dunklin-co.lib.mo.us/events/library-events/summer-reading-
 celebration-party-in-malden
END:VEVENT
BEGIN:VTIMEZONE
TZID:US/Central
X-LIC-LOCATION:US/Central
BEGIN:DAYLIGHT
DTSTART:20250309T030000
TZNAME:CDT
TZOFFSETFROM:-0600
TZOFFSETTO:-0500
END:DAYLIGHT
END:VTIMEZONE
END:VCALENDAR
