BEGIN:VCALENDAR
VERSION:2.0
PRODID:-//Plone.org//NONSGML plone.app.event//EN
X-WR-TIMEZONE:US/Central
BEGIN:VEVENT
SUMMARY:Library Board Meeting
DTSTART;TZID=US/Central:20251117T110000
DTEND;TZID=US/Central:20251117T120000
DTSTAMP:20260424T171505Z
UID:c9573aa84e91483fab251f6e2817173c@saas_stack_varnish:6080
CONTACT:JoNell Minton\, jonell@dunklin-co.lib.mo.us
CREATED:20250626T140025Z
DESCRIPTION:Meeting begins at 11:00 am
LAST-MODIFIED:20250626T140041Z
LOCATION:Dunklin County Library Headquarters Kennett
URL:https://www.dunklin-co.lib.mo.us/events/library-events/library-board-m
 eeting/2025-11-17
END:VEVENT
BEGIN:VTIMEZONE
TZID:US/Central
X-LIC-LOCATION:US/Central
BEGIN:STANDARD
DTSTART:20251102T010000
TZNAME:CST
TZOFFSETFROM:-0500
TZOFFSETTO:-0600
END:STANDARD
END:VTIMEZONE
END:VCALENDAR
