BEGIN:VCALENDAR
VERSION:2.0
PRODID:-//Plone.org//NONSGML plone.app.event//EN
X-WR-TIMEZONE:US/Central
BEGIN:VEVENT
SUMMARY:Library Board Meeting
DTSTART;TZID=US/Central:20251020T110000
DTEND;TZID=US/Central:20251020T120000
DTSTAMP:20260424T183624Z
UID:c9573aa84e91483fab251f6e2817173c@saas_stack_varnish:6080
CONTACT:JoNell Minton\, jonell@dunklin-co.lib.mo.us
CREATED:20250626T140025Z
DESCRIPTION:Meeting begins at 11:00 am
LAST-MODIFIED:20250626T140041Z
LOCATION:Dunklin County Library Headquarters Kennett
URL:https://www.dunklin-co.lib.mo.us/events/library-events/library-board-m
 eeting/2025-10-20
END:VEVENT
BEGIN:VTIMEZONE
TZID:US/Central
X-LIC-LOCATION:US/Central
BEGIN:DAYLIGHT
DTSTART:20250309T030000
TZNAME:CDT
TZOFFSETFROM:-0600
TZOFFSETTO:-0500
END:DAYLIGHT
END:VTIMEZONE
END:VCALENDAR
