BEGIN:VCALENDAR
VERSION:2.0
PRODID:-//Plone.org//NONSGML plone.app.event//EN
X-WR-TIMEZONE:US/Central
BEGIN:VEVENT
SUMMARY:Veteran's Day
DTSTART;VALUE=DATE:20311111
DTEND;VALUE=DATE:20311112
DTSTAMP:20260424T183927Z
UID:3a9be214c48c4ed3aa1b3000684f3f32@saas_stack_varnish:6080
CATEGORIES:Closed
CONTACT:JoNell Minton\, (573) 888-3561\, jonell@dunklin-co.lib.mo.us
CREATED:20250701T144946Z
DESCRIPTION:Veteran's Day
LAST-MODIFIED:20250701T144957Z
LOCATION:Dunklin County Library
URL:https://www.dunklin-co.lib.mo.us/events/holiday-hours/veterans-day/203
 1-11-11
END:VEVENT
END:VCALENDAR
