BEGIN:VCALENDAR
VERSION:2.0
PRODID:-//Plone.org//NONSGML plone.app.event//EN
X-WR-TIMEZONE:US/Central
BEGIN:VEVENT
SUMMARY:President's  Day
DTSTART;VALUE=DATE:20290219
DTEND;VALUE=DATE:20290220
DTSTAMP:20260424T184154Z
UID:36038e9451de4b9d998de1e137395c94@saas_stack_varnish:6080
CATEGORIES:Closed
CONTACT:JoNell Minton\, (573) 888-3561\, jonell@dunklin-co.lib.mo.us
CREATED:20250701T144158Z
DESCRIPTION:President's Day
LAST-MODIFIED:20250701T144212Z
LOCATION:Dunklin County Library
URL:https://www.dunklin-co.lib.mo.us/events/holiday-hours/presidents-day/2
 029-02-19
END:VEVENT
END:VCALENDAR
