BEGIN:VCALENDAR
VERSION:2.0
PRODID:-//Plone.org//NONSGML plone.app.event//EN
X-WR-TIMEZONE:US/Central
BEGIN:VEVENT
SUMMARY:Thanksgiving: Library Closed
DTSTART;VALUE=DATE:20281123
DTEND;VALUE=DATE:20281124
DTSTAMP:20260424T164811Z
UID:5d8ea753275f4cd78f07c6ab744b5017@saas_stack_varnish:6080
CATEGORIES:Closed
CREATED:20240305T185642Z
LAST-MODIFIED:20250226T192911Z
URL:https://www.dunklin-co.lib.mo.us/events/all-events/thanksgiving-librar
 y-closed/2028-11-23
END:VEVENT
END:VCALENDAR
