BEGIN:VCALENDAR
VERSION:2.0
PRODID:-//Plone.org//NONSGML plone.app.event//EN
X-WR-TIMEZONE:US/Central
BEGIN:VEVENT
SUMMARY:Labor Day: Library Closed
DTSTART;VALUE=DATE:20270906
DTEND;VALUE=DATE:20270907
DTSTAMP:20260422T155133Z
UID:65522866a6dd41acbee741192d270d72@saas_stack_varnish:6080
CATEGORIES:Closed
CREATED:20240305T185418Z
LAST-MODIFIED:20250226T192911Z
URL:https://www.dunklin-co.lib.mo.us/events/all-events/labor-day-library-c
 losed/2027-09-06
END:VEVENT
END:VCALENDAR
