BEGIN:VCALENDAR
VERSION:2.0
PRODID:-//Plone.org//NONSGML plone.app.event//EN
X-WR-TIMEZONE:US/Central
BEGIN:VEVENT
SUMMARY:President's  Day
DTSTART;VALUE=DATE:20270215
DTEND;VALUE=DATE:20270216
DTSTAMP:20260424T153103Z
UID:36038e9451de4b9d998de1e137395c94@saas_stack_varnish:6080
RRULE:FREQ=YEARLY;COUNT=7;BYDAY=+3MO;BYMONTH=2
CATEGORIES:Closed
CONTACT:JoNell Minton\, (573) 888-3561\, jonell@dunklin-co.lib.mo.us
CREATED:20250701T144158Z
DESCRIPTION:President's Day
LAST-MODIFIED:20250701T144212Z
LOCATION:Dunklin County Library
URL:https://www.dunklin-co.lib.mo.us/events/holiday-hours/presidents-day
END:VEVENT
BEGIN:VEVENT
SUMMARY:Martin Luther King Jr.
DTSTART;VALUE=DATE:20270118
DTEND;VALUE=DATE:20270119
DTSTAMP:20260424T153103Z
UID:cba55ed7812a4d129bcb9c5feab01ffd@saas_stack_varnish:6080
RRULE:FREQ=YEARLY;COUNT=7;BYDAY=+3MO;BYMONTH=1
CATEGORIES:Closed
CONTACT:JoNell Minton\, (573) 888-3561\, jonell@dunklin-co.lib.mo.us
CREATED:20250701T143405Z
DESCRIPTION:Martin Luther King Jr. Holiday
LAST-MODIFIED:20250701T143723Z
LOCATION:Dunklin County Library
URL:https://www.dunklin-co.lib.mo.us/events/all-events/martin-luther-king-
 jr
END:VEVENT
BEGIN:VEVENT
SUMMARY:New Years Day
DTSTART;VALUE=DATE:20270101
DTEND;VALUE=DATE:20270102
DTSTAMP:20260424T153103Z
UID:da678ecb588840f9b14257998158b3bd@saas_stack_varnish:6080
RRULE:FREQ=YEARLY;COUNT=7;BYMONTHDAY=1;BYMONTH=1
CATEGORIES:Closed
CONTACT:JoNell Minton\, (573) 888-3561\, jonell@dunklin-co.lib.mo.us
CREATED:20250701T145422Z
DESCRIPTION:New Year's Day
LAST-MODIFIED:20250701T145433Z
LOCATION:Dunklin County Library
URL:https://www.dunklin-co.lib.mo.us/events/holiday-hours/new-years-day
END:VEVENT
BEGIN:VEVENT
SUMMARY:Christmas: Library Closed
DTSTART;VALUE=DATE:20261225
DTEND;VALUE=DATE:20261226
DTSTAMP:20260424T153103Z
UID:d045d87722ce49a48e24fec4e61c78b7@saas_stack_varnish:6080
RRULE:FREQ=YEARLY;COUNT=7;BYMONTHDAY=25;BYMONTH=12
CATEGORIES:Closed
CREATED:20240305T210725Z
LAST-MODIFIED:20250226T192911Z
URL:https://www.dunklin-co.lib.mo.us/events/all-events/christmas-library-c
 losed
END:VEVENT
BEGIN:VEVENT
SUMMARY:Christmas Eve
DTSTART;VALUE=DATE:20251224
DTEND;VALUE=DATE:20251225
DTSTAMP:20260424T153103Z
UID:73691c88bded486fb7a409d7238401eb@saas_stack_varnish:6080
CATEGORIES:Closed
CONTACT:JoNell Minton\, (573) 888-3561\, jonell@dunklin-co.lib.mo.us
CREATED:20250701T140431Z
DESCRIPTION:Library closed for Christmas Eve
LAST-MODIFIED:20250701T141005Z
LOCATION:Dunklin County Library
URL:https://www.dunklin-co.lib.mo.us/events/all-events/christmas-eve
END:VEVENT
BEGIN:VEVENT
SUMMARY:Thanksgiving Holiday
DTSTART;VALUE=DATE:20251128
DTEND;VALUE=DATE:20251129
DTSTAMP:20260424T153103Z
UID:fc0012c987554a4f94cf08f168f96252@saas_stack_varnish:6080
CATEGORIES:Closed
CONTACT:JoNell Minton\, (573) 888-3561\, jonell@dunklin-co.lib.mo.us
CREATED:20250701T140840Z
DESCRIPTION:Library Closed Thanksgiving day and day after.
LAST-MODIFIED:20250701T140937Z
LOCATION:Dunklin County Library
URL:https://www.dunklin-co.lib.mo.us/events/all-events/thanksgiving-holida
 y
END:VEVENT
BEGIN:VEVENT
SUMMARY:Thanksgiving: Library Closed
DTSTART;VALUE=DATE:20261126
DTEND;VALUE=DATE:20261127
DTSTAMP:20260424T153103Z
UID:5d8ea753275f4cd78f07c6ab744b5017@saas_stack_varnish:6080
RRULE:FREQ=YEARLY;COUNT=7;BYDAY=+4TH;BYMONTH=11
CATEGORIES:Closed
CREATED:20240305T185642Z
LAST-MODIFIED:20250226T192911Z
URL:https://www.dunklin-co.lib.mo.us/events/all-events/thanksgiving-librar
 y-closed
END:VEVENT
BEGIN:VEVENT
SUMMARY:Veteran's Day
DTSTART;VALUE=DATE:20261111
DTEND;VALUE=DATE:20261112
DTSTAMP:20260424T153103Z
UID:3a9be214c48c4ed3aa1b3000684f3f32@saas_stack_varnish:6080
RRULE:FREQ=YEARLY;COUNT=7;BYMONTHDAY=11;BYMONTH=11
CATEGORIES:Closed
CONTACT:JoNell Minton\, (573) 888-3561\, jonell@dunklin-co.lib.mo.us
CREATED:20250701T144946Z
DESCRIPTION:Veteran's Day
LAST-MODIFIED:20250701T144957Z
LOCATION:Dunklin County Library
URL:https://www.dunklin-co.lib.mo.us/events/holiday-hours/veterans-day
END:VEVENT
BEGIN:VEVENT
SUMMARY:Columbus Day
DTSTART;VALUE=DATE:20261012
DTEND;VALUE=DATE:20261013
DTSTAMP:20260424T153103Z
UID:52ab75452aac4232a04e1e816c11c793@saas_stack_varnish:6080
RRULE:FREQ=YEARLY;COUNT=7;BYDAY=+2MO;BYMONTH=10
CATEGORIES:Closed
CONTACT:JoNell Minton\, (573) 344-0476\, jonell@dunklin-co.lib.mo.us
CREATED:20250701T144650Z
DESCRIPTION:Columbus Day Holiday
LAST-MODIFIED:20250701T144701Z
LOCATION:Dunklin County Library
URL:https://www.dunklin-co.lib.mo.us/events/holiday-hours/columbus-day
END:VEVENT
BEGIN:VEVENT
SUMMARY:Labor Day: Library Closed
DTSTART;VALUE=DATE:20260907
DTEND;VALUE=DATE:20260908
DTSTAMP:20260424T153103Z
UID:65522866a6dd41acbee741192d270d72@saas_stack_varnish:6080
RRULE:FREQ=YEARLY;COUNT=7;BYDAY=+1MO;BYMONTH=9
CATEGORIES:Closed
CREATED:20240305T185418Z
LAST-MODIFIED:20250226T192911Z
URL:https://www.dunklin-co.lib.mo.us/events/all-events/labor-day-library-c
 losed
END:VEVENT
BEGIN:VEVENT
SUMMARY:Book Discussion in Kennett
DTSTART;TZID=US/Central:20250729T190000
DTEND;TZID=US/Central:20250729T200000
DTSTAMP:20260424T153103Z
UID:93adf97f56e94683b390f47488357df6@saas_stack_varnish:6080
CONTACT:Julie Orf
CREATED:20250624T155722Z
DESCRIPTION:July 29: Book Discussion at 7 pm in Kennett
LAST-MODIFIED:20250624T155731Z
LOCATION:Dunklin County Library Kennett
URL:https://www.dunklin-co.lib.mo.us/events/library-events/book-discussion
 -in-kennett
END:VEVENT
BEGIN:VEVENT
SUMMARY:Summer Reading Celebration Party
DTSTART;TZID=US/Central:20250728T150000
DTEND;TZID=US/Central:20250728T160000
DTSTAMP:20260424T153103Z
UID:741f0fc299d34c0eb7479144d615b540@saas_stack_varnish:6080
CREATED:20250624T155600Z
DESCRIPTION:July 28: Summer Reading Celebration Party-- 3 pm in Cardwell
LAST-MODIFIED:20250624T155613Z
LOCATION:Dunklin County Library Cardwell Branch
URL:https://www.dunklin-co.lib.mo.us/events/library-events/summer-reading-
 celebration-party-4
END:VEVENT
BEGIN:VEVENT
SUMMARY:Summer Reading Celebration Party
DTSTART;TZID=US/Central:20250728T130000
DTEND;TZID=US/Central:20250728T140000
DTSTAMP:20260424T153103Z
UID:ae8ce202e42943de880d49ddd80e809f@saas_stack_varnish:6080
CONTACT:Julie Orf
CREATED:20250624T155449Z
DESCRIPTION:July 28: Summer Reading Celebration Party--1 pm in Hornersvill
 e
LAST-MODIFIED:20250624T155458Z
LOCATION:Dunklin County Library Hornersville Branch
URL:https://www.dunklin-co.lib.mo.us/events/library-events/summer-reading-
 celebration-party-3
END:VEVENT
BEGIN:VEVENT
SUMMARY:Summer Reading Celebration Party
DTSTART;TZID=US/Central:20250725T150000
DTEND;TZID=US/Central:20250725T160000
DTSTAMP:20260424T153103Z
UID:42f0c992dc1c4369a2fb11a00b3c1e61@saas_stack_varnish:6080
CONTACT:Julie Orf
CREATED:20250624T153334Z
DESCRIPTION:July 25: Summer Reading Celebration Party-- 3 pm in Campbell
LAST-MODIFIED:20250624T153347Z
LOCATION:Dunklin County Library Campbell Branch
URL:https://www.dunklin-co.lib.mo.us/summer-reading-celebration-party
END:VEVENT
BEGIN:VEVENT
SUMMARY:Bootheel Writers
DTSTART;TZID=US/Central:20250724T160000
DTEND;TZID=US/Central:20250724T170000
DTSTAMP:20260424T153103Z
UID:a21eec45ab5145f397589f0be7e338e9@saas_stack_varnish:6080
CONTACT:Julie Orf
CREATED:20250624T151306Z
DESCRIPTION:July 24: Bootheel Writers at 4 pm in Kennett
LAST-MODIFIED:20250624T151314Z
LOCATION:Dunklin County Library Kennett
URL:https://www.dunklin-co.lib.mo.us/events/library-events/bootheel-writer
 s-2
END:VEVENT
BEGIN:VEVENT
SUMMARY:Summer Reading Celebration Party in Clarkton
DTSTART;TZID=US/Central:20250723T150000
DTEND;TZID=US/Central:20250723T160000
DTSTAMP:20260424T153103Z
UID:ce7ba34f9fb4413791ee5fda0b6a1acf@saas_stack_varnish:6080
CONTACT:Julie Orf
CREATED:20250624T151157Z
DESCRIPTION:July 23: Summer Reading Celebration Party-- 3 pm in Clarkton
LAST-MODIFIED:20250624T151205Z
LOCATION:Dunklin County Library Clarkton Branch
URL:https://www.dunklin-co.lib.mo.us/events/library-events/summer-reading-
 celebration-party-in-clarkton
END:VEVENT
BEGIN:VEVENT
SUMMARY:Summer Reading Celebration Party in Malden
DTSTART;TZID=US/Central:20250723T130000
DTEND;TZID=US/Central:20250723T140000
DTSTAMP:20260424T153103Z
UID:9220247bbe80488da67def6b4c1eb6a2@saas_stack_varnish:6080
CONTACT:Julie Orf
CREATED:20250624T151027Z
DESCRIPTION:July 23: Summer Reading Celebration Party--1 pm in Malden
LAST-MODIFIED:20250624T151036Z
LOCATION:Dunklin County Library Malden Branch
URL:https://www.dunklin-co.lib.mo.us/events/library-events/summer-reading-
 celebration-party-in-malden
END:VEVENT
BEGIN:VEVENT
SUMMARY:The Write Club for Teens
DTSTART;TZID=US/Central:20250722T160000
DTEND;TZID=US/Central:20250722T170000
DTSTAMP:20260424T153103Z
UID:09f7ccd02c8f4445a07ba55dcbe7ffb7@saas_stack_varnish:6080
CONTACT:Julie Orf
CREATED:20250624T150843Z
DESCRIPTION:July 22- The Write Club for Teens at 4 pm in Kennett
LAST-MODIFIED:20250624T150851Z
LOCATION:Dunklin County Library Kennett
URL:https://www.dunklin-co.lib.mo.us/events/library-events/the-write-club-
 for-teens-2
END:VEVENT
BEGIN:VEVENT
SUMMARY:Summer Reading Celebration Party
DTSTART;TZID=US/Central:20250721T150000
DTEND;TZID=US/Central:20250721T160000
DTSTAMP:20260424T153103Z
UID:afa09eff1a1c4a11bd09956b2954d792@saas_stack_varnish:6080
CONTACT:Julie Orf
CREATED:20250624T150714Z
DESCRIPTION:July 21: Summer Reading Celebration Party-- 3 pm in Senath
LAST-MODIFIED:20250624T150723Z
LOCATION:Dunklin County Library Senath Branch
URL:https://www.dunklin-co.lib.mo.us/events/library-events/summer-reading-
 celebration-party-1
END:VEVENT
BEGIN:VEVENT
SUMMARY:Summer Reading Celebration Party
DTSTART;TZID=US/Central:20250721T130000
DTEND;TZID=US/Central:20250721T140000
DTSTAMP:20260424T153103Z
UID:c9214e94841f441da1aed9a223c33d0e@saas_stack_varnish:6080
CONTACT:Julie Orf
CREATED:20250624T150547Z
DESCRIPTION:July 21: Summer Reading Celebration Party-- 1 pm in Kennett
LAST-MODIFIED:20250624T150555Z
LOCATION:Dunklin County Library Kennett
URL:https://www.dunklin-co.lib.mo.us/events/library-events/summer-reading-
 celebration-party
END:VEVENT
BEGIN:VEVENT
SUMMARY:Bootheel Writers
DTSTART;TZID=US/Central:20250710T160000
DTEND;TZID=US/Central:20250710T170000
DTSTAMP:20260424T153103Z
UID:d26cf032ad424e8297fd707888b80eaa@saas_stack_varnish:6080
CONTACT:Julie Orf
CREATED:20250624T150242Z
DESCRIPTION:July 10-- Bootheel Writers at 4 pm in Kennett
LAST-MODIFIED:20250624T150252Z
LOCATION:Dunklin County Library Kennett
URL:https://www.dunklin-co.lib.mo.us/events/library-events/bootheel-writer
 s-1
END:VEVENT
BEGIN:VEVENT
SUMMARY:The Write Club for Teens
DTSTART;TZID=US/Central:20250708T160000
DTEND;TZID=US/Central:20250708T170000
DTSTAMP:20260424T153103Z
UID:2606079ed15f4ae8b7e2fc42221aa455@saas_stack_varnish:6080
CONTACT:Julie Orf
CREATED:20250624T150107Z
DESCRIPTION:July 8-- The Write Club for Teens at 4 pm in Kennett
LAST-MODIFIED:20250624T150341Z
LOCATION:Dunklin County Library Kennett
URL:https://www.dunklin-co.lib.mo.us/events/library-events/the-write-club-
 for-teens-1
END:VEVENT
BEGIN:VEVENT
SUMMARY:Independence Day: Library Closed
DTSTART;VALUE=DATE:20260704
DTEND;VALUE=DATE:20260705
DTSTAMP:20260424T153103Z
UID:4c1b821103254c53a21f725ed2bf5a25@saas_stack_varnish:6080
RRULE:FREQ=YEARLY;COUNT=7;BYMONTHDAY=4;BYMONTH=7
CATEGORIES:Closed
CREATED:20240305T182442Z
LAST-MODIFIED:20250226T192911Z
URL:https://www.dunklin-co.lib.mo.us/events/all-events/independence-day-li
 brary-closed
END:VEVENT
BEGIN:VEVENT
SUMMARY:Book Signing with Verna Green
DTSTART;TZID=US/Central:20250628T100000
DTEND;TZID=US/Central:20250628T120000
DTSTAMP:20260424T153103Z
UID:7a790ccf68ab418fb22900f1ff89ac92@saas_stack_varnish:6080
CONTACT:Julie Orf
CREATED:20250624T145932Z
DESCRIPTION:June 28—Book Signing with Verna Green from 10 am to Noon to 
 in Kennett
LAST-MODIFIED:20250624T150331Z
LOCATION:Dunklin County Library Kennett
URL:https://www.dunklin-co.lib.mo.us/events/library-events/book-signing-wi
 th-verna-green
END:VEVENT
BEGIN:VEVENT
SUMMARY:Bootheel Writers
DTSTART;TZID=US/Central:20250626T160000
DTEND;TZID=US/Central:20250626T170000
DTSTAMP:20260424T153103Z
UID:cc4fdc4fbaed401bb9a8353f41e75605@saas_stack_varnish:6080
CONTACT:Julie Orf
CREATED:20250624T145042Z
DESCRIPTION:June 26—Bootheel Writers at 4 pm in Kennett
LAST-MODIFIED:20250624T150321Z
LOCATION:Dunklin County Library Kennett
URL:https://www.dunklin-co.lib.mo.us/events/library-events/bootheel-writer
 s
END:VEVENT
BEGIN:VEVENT
SUMMARY:Library Board Meeting
DTSTART;TZID=US/Central:20250626T110000
DTEND;TZID=US/Central:20250626T120000
DTSTAMP:20260424T153103Z
UID:c9573aa84e91483fab251f6e2817173c@saas_stack_varnish:6080
RRULE:FREQ=MONTHLY;COUNT=7;BYDAY=+3MO
CONTACT:JoNell Minton\, jonell@dunklin-co.lib.mo.us
CREATED:20250626T140025Z
DESCRIPTION:Meeting begins at 11:00 am
LAST-MODIFIED:20250626T140041Z
LOCATION:Dunklin County Library Headquarters Kennett
URL:https://www.dunklin-co.lib.mo.us/events/library-events/library-board-m
 eeting
END:VEVENT
BEGIN:VEVENT
SUMMARY:Book Sale
DTSTART;TZID=US/Central:20250607T083000
DTEND;TZID=US/Central:20250607T153000
DTSTAMP:20260424T153103Z
UID:8f16c707f09f4a6fbbfb7a39155688df@saas_stack_varnish:6080
CONTACT:JoNell Minton\, (573) 888-3561\, jonell@dunklin-co.lib.mo.us
CREATED:20250605T141436Z
DESCRIPTION:Annual book sale
LAST-MODIFIED:20250605T141504Z
LOCATION:Dunklin County Library Headquarters / Kennett
URL:https://www.dunklin-co.lib.mo.us/events/calendar/book-sale
END:VEVENT
BEGIN:VEVENT
SUMMARY:Memorial Day: Library Closed
DTSTART;VALUE=DATE:20260525
DTEND;VALUE=DATE:20260526
DTSTAMP:20260424T153103Z
UID:a4fb49e2de1242bcbd13e09341227201@saas_stack_varnish:6080
RRULE:FREQ=YEARLY;COUNT=7;BYDAY=-1MO;BYMONTH=5
CATEGORIES:Closed
CREATED:20240305T182100Z
LAST-MODIFIED:20250311T195455Z
URL:https://www.dunklin-co.lib.mo.us/events/all-events/memorial-day-librar
 y-closed
END:VEVENT
BEGIN:VEVENT
SUMMARY:Story time
DTSTART;TZID=US/Central:20250507T140000
DTEND;TZID=US/Central:20250507T153000
DTSTAMP:20260424T153103Z
UID:4a4a82f32f444b09820043c7c315b4c0@saas_stack_varnish:6080
RRULE:FREQ=WEEKLY;COUNT=7
CREATED:20250506T181852Z
LAST-MODIFIED:20250506T181953Z
URL:https://www.dunklin-co.lib.mo.us/events/all-events/story-time
END:VEVENT
BEGIN:VEVENT
SUMMARY:New books!
DTSTART;TZID=US/Central:20250421T090000
DTEND;TZID=US/Central:20250421T100000
DTSTAMP:20260424T153103Z
UID:9785a0debbf74356ac19d9e93b3828f3@saas_stack_varnish:6080
CREATED:20250207T152754Z
LAST-MODIFIED:20250226T192911Z
URL:https://www.dunklin-co.lib.mo.us/events/library-events/new-books
END:VEVENT
BEGIN:VTIMEZONE
TZID:US/Central
X-LIC-LOCATION:US/Central
BEGIN:DAYLIGHT
DTSTART:20250309T030000
TZNAME:CDT
TZOFFSETFROM:-0600
TZOFFSETTO:-0500
END:DAYLIGHT
END:VTIMEZONE
END:VCALENDAR
