BEGIN:VCALENDAR
VERSION:2.0
PRODID:-//Plone.org//NONSGML plone.app.event//EN
X-WR-TIMEZONE:US/Central
BEGIN:VEVENT
SUMMARY:Memorial Day: Library Closed
DTSTART;VALUE=DATE:20260525
DTEND;VALUE=DATE:20260526
DTSTAMP:20260424T153047Z
UID:a4fb49e2de1242bcbd13e09341227201@saas_stack_varnish:6080
RRULE:FREQ=YEARLY;COUNT=7;BYDAY=-1MO;BYMONTH=5
CATEGORIES:Closed
CREATED:20240305T182100Z
LAST-MODIFIED:20250311T195455Z
URL:https://www.dunklin-co.lib.mo.us/events/all-events/memorial-day-librar
 y-closed
END:VEVENT
BEGIN:VEVENT
SUMMARY:Juneteenth: Library Closed
DTSTART;VALUE=DATE:20260619
DTEND;VALUE=DATE:20260620
DTSTAMP:20260424T153047Z
UID:6ddc29f8847e4f85bdcdfa53b4f48754@saas_stack_varnish:6080
RRULE:FREQ=YEARLY;COUNT=7;BYMONTHDAY=19;BYMONTH=6
CATEGORIES:Closed
CREATED:20250623T140114Z
LAST-MODIFIED:20250626T151856Z
URL:https://www.dunklin-co.lib.mo.us/events/all-events/juneteenth-library-
 closed
END:VEVENT
BEGIN:VEVENT
SUMMARY:Independence Day: Library Closed
DTSTART;VALUE=DATE:20260704
DTEND;VALUE=DATE:20260705
DTSTAMP:20260424T153047Z
UID:4c1b821103254c53a21f725ed2bf5a25@saas_stack_varnish:6080
RRULE:FREQ=YEARLY;COUNT=7;BYMONTHDAY=4;BYMONTH=7
CATEGORIES:Closed
CREATED:20240305T182442Z
LAST-MODIFIED:20250226T192911Z
URL:https://www.dunklin-co.lib.mo.us/events/all-events/independence-day-li
 brary-closed
END:VEVENT
BEGIN:VEVENT
SUMMARY:Labor Day: Library Closed
DTSTART;VALUE=DATE:20260907
DTEND;VALUE=DATE:20260908
DTSTAMP:20260424T153047Z
UID:65522866a6dd41acbee741192d270d72@saas_stack_varnish:6080
RRULE:FREQ=YEARLY;COUNT=7;BYDAY=+1MO;BYMONTH=9
CATEGORIES:Closed
CREATED:20240305T185418Z
LAST-MODIFIED:20250226T192911Z
URL:https://www.dunklin-co.lib.mo.us/events/all-events/labor-day-library-c
 losed
END:VEVENT
BEGIN:VEVENT
SUMMARY:Columbus Day
DTSTART;VALUE=DATE:20261012
DTEND;VALUE=DATE:20261013
DTSTAMP:20260424T153047Z
UID:52ab75452aac4232a04e1e816c11c793@saas_stack_varnish:6080
RRULE:FREQ=YEARLY;COUNT=7;BYDAY=+2MO;BYMONTH=10
CATEGORIES:Closed
CONTACT:JoNell Minton\, (573) 344-0476\, jonell@dunklin-co.lib.mo.us
CREATED:20250701T144650Z
DESCRIPTION:Columbus Day Holiday
LAST-MODIFIED:20250701T144701Z
LOCATION:Dunklin County Library
URL:https://www.dunklin-co.lib.mo.us/events/holiday-hours/columbus-day
END:VEVENT
BEGIN:VEVENT
SUMMARY:Veteran's Day
DTSTART;VALUE=DATE:20261111
DTEND;VALUE=DATE:20261112
DTSTAMP:20260424T153047Z
UID:3a9be214c48c4ed3aa1b3000684f3f32@saas_stack_varnish:6080
RRULE:FREQ=YEARLY;COUNT=7;BYMONTHDAY=11;BYMONTH=11
CATEGORIES:Closed
CONTACT:JoNell Minton\, (573) 888-3561\, jonell@dunklin-co.lib.mo.us
CREATED:20250701T144946Z
DESCRIPTION:Veteran's Day
LAST-MODIFIED:20250701T144957Z
LOCATION:Dunklin County Library
URL:https://www.dunklin-co.lib.mo.us/events/holiday-hours/veterans-day
END:VEVENT
BEGIN:VEVENT
SUMMARY:Thanksgiving: Library Closed
DTSTART;VALUE=DATE:20261126
DTEND;VALUE=DATE:20261127
DTSTAMP:20260424T153048Z
UID:5d8ea753275f4cd78f07c6ab744b5017@saas_stack_varnish:6080
RRULE:FREQ=YEARLY;COUNT=7;BYDAY=+4TH;BYMONTH=11
CATEGORIES:Closed
CREATED:20240305T185642Z
LAST-MODIFIED:20250226T192911Z
URL:https://www.dunklin-co.lib.mo.us/events/all-events/thanksgiving-librar
 y-closed
END:VEVENT
BEGIN:VEVENT
SUMMARY:Christmas: Library Closed
DTSTART;VALUE=DATE:20261225
DTEND;VALUE=DATE:20261226
DTSTAMP:20260424T153048Z
UID:d045d87722ce49a48e24fec4e61c78b7@saas_stack_varnish:6080
RRULE:FREQ=YEARLY;COUNT=7;BYMONTHDAY=25;BYMONTH=12
CATEGORIES:Closed
CREATED:20240305T210725Z
LAST-MODIFIED:20250226T192911Z
URL:https://www.dunklin-co.lib.mo.us/events/all-events/christmas-library-c
 losed
END:VEVENT
BEGIN:VEVENT
SUMMARY:New Years Day
DTSTART;VALUE=DATE:20270101
DTEND;VALUE=DATE:20270102
DTSTAMP:20260424T153048Z
UID:da678ecb588840f9b14257998158b3bd@saas_stack_varnish:6080
RRULE:FREQ=YEARLY;COUNT=7;BYMONTHDAY=1;BYMONTH=1
CATEGORIES:Closed
CONTACT:JoNell Minton\, (573) 888-3561\, jonell@dunklin-co.lib.mo.us
CREATED:20250701T145422Z
DESCRIPTION:New Year's Day
LAST-MODIFIED:20250701T145433Z
LOCATION:Dunklin County Library
URL:https://www.dunklin-co.lib.mo.us/events/holiday-hours/new-years-day
END:VEVENT
BEGIN:VEVENT
SUMMARY:Martin Luther King Jr.
DTSTART;VALUE=DATE:20270118
DTEND;VALUE=DATE:20270119
DTSTAMP:20260424T153048Z
UID:cba55ed7812a4d129bcb9c5feab01ffd@saas_stack_varnish:6080
RRULE:FREQ=YEARLY;COUNT=7;BYDAY=+3MO;BYMONTH=1
CATEGORIES:Closed
CONTACT:JoNell Minton\, (573) 888-3561\, jonell@dunklin-co.lib.mo.us
CREATED:20250701T143405Z
DESCRIPTION:Martin Luther King Jr. Holiday
LAST-MODIFIED:20250701T143723Z
LOCATION:Dunklin County Library
URL:https://www.dunklin-co.lib.mo.us/events/all-events/martin-luther-king-
 jr
END:VEVENT
BEGIN:VEVENT
SUMMARY:President's  Day
DTSTART;VALUE=DATE:20270215
DTEND;VALUE=DATE:20270216
DTSTAMP:20260424T153048Z
UID:36038e9451de4b9d998de1e137395c94@saas_stack_varnish:6080
RRULE:FREQ=YEARLY;COUNT=7;BYDAY=+3MO;BYMONTH=2
CATEGORIES:Closed
CONTACT:JoNell Minton\, (573) 888-3561\, jonell@dunklin-co.lib.mo.us
CREATED:20250701T144158Z
DESCRIPTION:President's Day
LAST-MODIFIED:20250701T144212Z
LOCATION:Dunklin County Library
URL:https://www.dunklin-co.lib.mo.us/events/holiday-hours/presidents-day
END:VEVENT
BEGIN:VEVENT
SUMMARY:Example Event
DTSTART;VALUE=DATE:20300610
DTEND;VALUE=DATE:20300611
DTSTAMP:20260424T153048Z
UID:63554b364319436a98bedf43ed815ae3@saas_stack_varnish:6080
CONTACT:Contact Name\, (123) 123-4567\, contact@email.com\, https://myeven
 t.com
CREATED:20240229T183544Z
LAST-MODIFIED:20250226T192911Z
LOCATION:Your Local Library
URL:https://www.dunklin-co.lib.mo.us/events/library-events/example-event
END:VEVENT
END:VCALENDAR
